BEGIN:VCALENDAR
VERSION:2.0
PRODID:-//Tukios.com/
BEGIN:VEVENT
UID:ea3b6980-de20-4685-8ab3-28aa84dad3d7@www.marshallfuneralhomeinc.com
DTSTAMP:20260419T192753Z
DTSTART:20260424T040000Z
DTEND:20260424T050000Z
SUMMARY:Memorial Gathering
DESCRIPTION:
URL:https://www.marshallfuneralhomeinc.com/obituaries/rusty-nichols-ii
LOCATION:Outreach 419 235 West Fenwick Road  Fenwick MI 48834
GEO:43.1490719;-85.0776039
END:VEVENT
END:VCALENDAR