BEGIN:VCALENDAR
VERSION:2.0
PRODID:-//Tukios.com/
BEGIN:VEVENT
UID:0cd252a9-e6ac-4c28-a1f6-dfcbbc070e02@www.marshallfuneralhomeinc.com
DTSTAMP:20260420T003515Z
DTSTART:20260503T210000Z
DTEND:20260503T220000Z
SUMMARY:Memorial Service
DESCRIPTION:
URL:https://www.marshallfuneralhomeinc.com/obituaries/michael-feltner
LOCATION: 4301 East Charles Road  Ionia MI 48846
GEO:43.061967;-84.9896245
END:VEVENT
END:VCALENDAR